BEGIN:VCALENDAR
VERSION:2.0
PRODID:-//D Cosmetics - ECPv6.15.20//NONSGML v1.0//EN
CALSCALE:GREGORIAN
METHOD:PUBLISH
X-ORIGINAL-URL:https://d-cosmetics.com
X-WR-CALDESC:Events for D Cosmetics
REFRESH-INTERVAL;VALUE=DURATION:PT1H
X-Robots-Tag:noindex
X-PUBLISHED-TTL:PT1H
BEGIN:VTIMEZONE
TZID:Europe/Belgrade
BEGIN:DAYLIGHT
TZOFFSETFROM:+0100
TZOFFSETTO:+0200
TZNAME:CEST
DTSTART:20250330T010000
END:DAYLIGHT
BEGIN:STANDARD
TZOFFSETFROM:+0200
TZOFFSETTO:+0100
TZNAME:CET
DTSTART:20251026T010000
END:STANDARD
BEGIN:DAYLIGHT
TZOFFSETFROM:+0100
TZOFFSETTO:+0200
TZNAME:CEST
DTSTART:20260329T010000
END:DAYLIGHT
BEGIN:STANDARD
TZOFFSETFROM:+0200
TZOFFSETTO:+0100
TZNAME:CET
DTSTART:20261025T010000
END:STANDARD
BEGIN:DAYLIGHT
TZOFFSETFROM:+0100
TZOFFSETTO:+0200
TZNAME:CEST
DTSTART:20270328T010000
END:DAYLIGHT
BEGIN:STANDARD
TZOFFSETFROM:+0200
TZOFFSETTO:+0100
TZNAME:CET
DTSTART:20271031T010000
END:STANDARD
END:VTIMEZONE
BEGIN:VEVENT
DTSTART;TZID=Europe/Belgrade:20260422T110000
DTEND;TZID=Europe/Belgrade:20260422T140000
DTSTAMP:20260419T143455
CREATED:20260406T163622Z
LAST-MODIFIED:20260406T163622Z
UID:1242-1776855600-1776866400@d-cosmetics.com
SUMMARY:La Fontaine Body open day 22.04
DESCRIPTION:Prezentacija Bloomea LaFontaine tretmana za telo. Vaš saveznik u borbi protiv strija i ožiljaka! \nRegistrujte se
URL:https://d-cosmetics.com/event/la-fontaine-body-open-day-22-04/
LOCATION:D Cosmetics Trening centar\, Koste Glavinića 9\, Beograd\, 11000\, Serbia
CATEGORIES:Bloomea
ATTACH;FMTTYPE=image/webp:https://d-cosmetics.com/wp-content/uploads/2024/10/Bloomea-logo.webp
ORGANIZER;CN="D Cosmetics":MAILTO:office@ddcosmetic.com
END:VEVENT
BEGIN:VEVENT
DTSTART;TZID=Europe/Belgrade:20260429T110000
DTEND;TZID=Europe/Belgrade:20260429T140000
DTSTAMP:20260419T143455
CREATED:20260406T164125Z
LAST-MODIFIED:20260406T164442Z
UID:1244-1777460400-1777471200@d-cosmetics.com
SUMMARY:La Fontaine Face open day 29.04
DESCRIPTION:Prezentacija Bloomea LaFontaine tretmana za lice. Vaš saveznik u borbi protiv strija i ožiljaka! \nRegistrujte se
URL:https://d-cosmetics.com/event/la-fontaine-face-open-day-29-04/
LOCATION:D Cosmetics Trening centar\, Koste Glavinića 9\, Beograd\, 11000\, Serbia
CATEGORIES:Bloomea
ATTACH;FMTTYPE=image/webp:https://d-cosmetics.com/wp-content/uploads/2024/10/Bloomea-logo.webp
ORGANIZER;CN="D Cosmetics":MAILTO:office@ddcosmetic.com
END:VEVENT
BEGIN:VEVENT
DTSTART;TZID=Europe/Belgrade:20260513T110000
DTEND;TZID=Europe/Belgrade:20260513T140000
DTSTAMP:20260419T143455
CREATED:20260406T164607Z
LAST-MODIFIED:20260406T164607Z
UID:1246-1778670000-1778680800@d-cosmetics.com
SUMMARY:LaFontaine i Myolift\, kombinovani protokoli 13.05
DESCRIPTION:Prezentacija Bloomea LaFontaine tretmana za lice. Sinergija dva aparata za transformaciju kože! \nRegistrujte se
URL:https://d-cosmetics.com/event/lafontaine-i-myolift-kombinovani-protokoli-13-05/
LOCATION:D Cosmetics Trening centar\, Koste Glavinića 9\, Beograd\, 11000\, Serbia
CATEGORIES:7E MyoLift,Bloomea
ATTACH;FMTTYPE=image/webp:https://d-cosmetics.com/wp-content/uploads/2024/10/Bloomea-logo.webp
ORGANIZER;CN="D Cosmetics":MAILTO:office@ddcosmetic.com
END:VEVENT
END:VCALENDAR