BEGIN:VCALENDAR
VERSION:2.0
PRODID:-//D Cosmetics - ECPv6.15.20//NONSGML v1.0//EN
CALSCALE:GREGORIAN
METHOD:PUBLISH
X-ORIGINAL-URL:https://d-cosmetics.com
X-WR-CALDESC:Events for D Cosmetics
REFRESH-INTERVAL;VALUE=DURATION:PT1H
X-Robots-Tag:noindex
X-PUBLISHED-TTL:PT1H
BEGIN:VTIMEZONE
TZID:Europe/Belgrade
BEGIN:DAYLIGHT
TZOFFSETFROM:+0100
TZOFFSETTO:+0200
TZNAME:CEST
DTSTART:20250330T010000
END:DAYLIGHT
BEGIN:STANDARD
TZOFFSETFROM:+0200
TZOFFSETTO:+0100
TZNAME:CET
DTSTART:20251026T010000
END:STANDARD
BEGIN:DAYLIGHT
TZOFFSETFROM:+0100
TZOFFSETTO:+0200
TZNAME:CEST
DTSTART:20260329T010000
END:DAYLIGHT
BEGIN:STANDARD
TZOFFSETFROM:+0200
TZOFFSETTO:+0100
TZNAME:CET
DTSTART:20261025T010000
END:STANDARD
BEGIN:DAYLIGHT
TZOFFSETFROM:+0100
TZOFFSETTO:+0200
TZNAME:CEST
DTSTART:20270328T010000
END:DAYLIGHT
BEGIN:STANDARD
TZOFFSETFROM:+0200
TZOFFSETTO:+0100
TZNAME:CET
DTSTART:20271031T010000
END:STANDARD
END:VTIMEZONE
BEGIN:VEVENT
DTSTART;TZID=Europe/Belgrade:20260423T110000
DTEND;TZID=Europe/Belgrade:20260423T130000
DTSTAMP:20260421T104056
CREATED:20260323T141503Z
LAST-MODIFIED:20260414T201609Z
UID:1217-1776942000-1776949200@d-cosmetics.com
SUMMARY:Exosomes
DESCRIPTION:Exosomes termin prezentacije je pomeren za 23.04.2026. \nUpoznavanje sa najnovijom Exosomes tehnologijom i njenim regenerativnim efektima na kožu. \nPridruži se webinaru\nDodaj u Google kalendar | Dodaj u Outlook kalendar \nDownload zoom
URL:https://d-cosmetics.com/event/exosomes/
LOCATION:Zoom online event\, Online
CATEGORIES:Juliette Armand
ATTACH;FMTTYPE=image/webp:https://d-cosmetics.com/wp-content/uploads/2026/03/exofusion6001.webp
ORGANIZER;CN="D Cosmetics":MAILTO:office@ddcosmetic.com
END:VEVENT
BEGIN:VEVENT
DTSTART;TZID=Europe/Belgrade:20260430T110000
DTEND;TZID=Europe/Belgrade:20260430T130000
DTSTAMP:20260421T104056
CREATED:20260323T141806Z
LAST-MODIFIED:20260323T143131Z
UID:1222-1777546800-1777554000@d-cosmetics.com
SUMMARY:Body Elements
DESCRIPTION:Predstavljanje Body Elements linije za tretmane tela sa fokusom na učvršćivanje\, hidrataciju i oblikovanje. \n\n\n\n\n\n\nPridruži se webinaru\n\nDodaj u Google kalendar | Dodaj u Outlook kalendar\n\n\nDownload zoom
URL:https://d-cosmetics.com/event/body-elements/
LOCATION:Zoom online event\, Online
CATEGORIES:Juliette Armand
ATTACH;FMTTYPE=image/webp:https://d-cosmetics.com/wp-content/uploads/2026/03/Elements-Creams-A1.webp
ORGANIZER;CN="D Cosmetics":MAILTO:office@ddcosmetic.com
END:VEVENT
END:VCALENDAR